BEGIN:VCALENDAR
VERSION:2.0
PRODID:www.codnes.sk
BEGIN:VEVENT
UID:69e9ab9e5a32c
DTSTART:20191025T200000Z
SEQUENCE:0
TRANSP:OPAQUE
DTEND:20191025T235900Z
LOCATION:Trnava
SUMMARY:Yzomandias
CLASS:PUBLIC
DESCRIPTION:YZOMANDIAS prichádza po roku naspäť do Trnavy🤫 V City Clu
 be mu bude tentoraz kryť chrbát kolega z Mi
DTSTAMP:20260423T051822Z
END:VEVENT
END:VCALENDAR