BEGIN:VCALENDAR
VERSION:2.0
PRODID:www.codnes.sk
BEGIN:VEVENT
UID:69e5199c9ccaf
DTSTART:20220715T093000Z
SEQUENCE:0
TRANSP:OPAQUE
DTEND:20220715T133000Z
LOCATION:Piešťany
SUMMARY:Splav Váhu Nové Mesto nad Váhom – Piešťany
CLASS:PUBLIC
DESCRIPTION:Ahoooooj !!!&nbsp\;Pridaj sa k nám na pohodový splav Váhu&nb
 sp\;z Nového Mesta nad Váhom do Piešťan. N
DTSTAMP:20260419T180620Z
END:VEVENT
END:VCALENDAR