BEGIN:VCALENDAR
VERSION:2.0
PRODID:www.codnes.sk
BEGIN:VEVENT
UID:69e5e06e17716
DTSTART:20261221T170000Z
SEQUENCE:0
TRANSP:OPAQUE
LOCATION:Trnava
SUMMARY:SPIEVANKOVO - SVETLO VIANOC
CLASS:PUBLIC
DESCRIPTION:Vianoce sú predo dvermi a obyvateľmi Spievankova sú v plnom 
 prúde príprava aby bolo všetko dokonale
DTSTAMP:20260420T081438Z
END:VEVENT
END:VCALENDAR