BEGIN:VCALENDAR
VERSION:2.0
PRODID:www.codnes.sk
BEGIN:VEVENT
UID:69e887e52816b
DTSTART:20261201T170000Z
SEQUENCE:0
TRANSP:OPAQUE
LOCATION:Piešťany
SUMMARY:SPIEVANKOVO - SVETLO VIANOC
CLASS:PUBLIC
DESCRIPTION:Vianoce sú predo dvermi a obyvateľmi Spievankova sú v plnom 
 prúde príprava aby bolo všetko dokonale
DTSTAMP:20260422T083341Z
END:VEVENT
END:VCALENDAR