BEGIN:VCALENDAR
VERSION:2.0
PRODID:www.codnes.sk
BEGIN:VEVENT
UID:69e9d536204df
DTSTART:20220625T094500Z
SEQUENCE:0
TRANSP:OPAQUE
DTEND:20220625T134500Z
LOCATION:Hlohovec
SUMMARY:Sobotný Splav Váhu Hlohovec – Sereď
CLASS:PUBLIC
DESCRIPTION:Ahoooooj !!!Pridaj sa k nám na pohodový splav Váhu&nbsp\;z H
 lohovca do Serede. Nerob si starosti\, o v
DTSTAMP:20260423T081550Z
END:VEVENT
END:VCALENDAR