BEGIN:VCALENDAR
VERSION:2.0
PRODID:www.codnes.sk
BEGIN:VEVENT
UID:69ed089274c27
DTSTART:20260426T160000Z
SEQUENCE:0
TRANSP:OPAQUE
LOCATION:Trnava
SUMMARY:Smejko a Tanculienka - Hviezdne hity!
CLASS:PUBLIC
DESCRIPTION:Hviezdne hity!\nA je to tu! 10 výnimočných rokov s vami\, ch
 robáčikovia! Oslávte to s nami a s našimi
DTSTAMP:20260425T183146Z
END:VEVENT
END:VCALENDAR