BEGIN:VCALENDAR
VERSION:2.0
PRODID:www.codnes.sk
BEGIN:VEVENT
UID:69e4b53b86fb7
DTSTART:20260314T190000Z
SEQUENCE:0
TRANSP:OPAQUE
LOCATION:Piešťany
SUMMARY:Shirley Valentine na Kúpeľnom ostrove
CLASS:PUBLIC
DESCRIPTION:Bravúrne a s humorom vyrozprávaný príbeh ženy\, ktorá dlh
 é roky žije v manželstve\, z ktorého sa už dá
DTSTAMP:20260419T105803Z
END:VEVENT
END:VCALENDAR