BEGIN:VCALENDAR
VERSION:2.0
PRODID:www.codnes.sk
BEGIN:VEVENT
UID:69e9bb5f8e452
DTSTART:20260425T210000Z
SEQUENCE:0
TRANSP:OPAQUE
DTEND:20260425T235900Z
LOCATION:Trnava
SUMMARY:SEPAR NEVIEM TOUR TRNAVA 25. APRIL 2026
CLASS:PUBLIC
DESCRIPTION:Separ v Trnave! Sobota 25. april a to najlepšie čo aktuálne 
 rapová kultúra ponúka. Strýko so svojou
DTSTAMP:20260423T062535Z
END:VEVENT
END:VCALENDAR