BEGIN:VCALENDAR
VERSION:2.0
PRODID:www.codnes.sk
BEGIN:VEVENT
UID:69ea33c5c8254
DTSTART:20250809T110000Z
SEQUENCE:0
TRANSP:OPAQUE
LOCATION:Piešťany
SUMMARY:Príprava na Hlinka Gretzky Cup 2025
CLASS:PUBLIC
DESCRIPTION:Chýba vám hokej? Chcete sa v horúcom letnom počasí príje
 mne schladiť v priestoroch zimného štadióna?
DTSTAMP:20260423T145917Z
END:VEVENT
END:VCALENDAR