BEGIN:VCALENDAR
VERSION:2.0
PRODID:www.codnes.sk
BEGIN:VEVENT
UID:69e4b327d5dd2
DTSTART:20260317T190000Z
SEQUENCE:0
TRANSP:OPAQUE
LOCATION:Senica
SUMMARY:PRAVDA
CLASS:PUBLIC
DESCRIPTION:Michel je úspešný\, šarmantný a sexi. A samozrejme\, vždy
  o krok pred ostatnými. \nTo\, že už pol roka
DTSTAMP:20260419T104911Z
END:VEVENT
END:VCALENDAR