BEGIN:VCALENDAR
VERSION:2.0
PRODID:www.codnes.sk
BEGIN:VEVENT
UID:69e9bbe58db4a
DTSTART:20231125T100000Z
SEQUENCE:0
TRANSP:OPAQUE
DTEND:99990217T225900Z
LOCATION:Piešťany
SUMMARY:Pöstyén Winter szemével
CLASS:PUBLIC
DESCRIPTION:Az ősz ideális időszak arra\, hogy egy élményekben gazdag 
 sétát tegyen a termálvizéről méltán híres P
DTSTAMP:20260423T062749Z
END:VEVENT
END:VCALENDAR