BEGIN:VCALENDAR
VERSION:2.0
PRODID:www.codnes.sk
BEGIN:VEVENT
UID:69e99f576763b
DTSTART:20220824T160000Z
SEQUENCE:0
TRANSP:OPAQUE
DTEND:20220824T200000Z
LOCATION:Hlohovec
SUMMARY:Poobedný Splav Váhu Jalšové – Hlohovec
CLASS:PUBLIC
DESCRIPTION:Ahoooj!!!Pridaj sa k nám na poobedný splav Váhu z Jalšovéh
 o do Hlohovca. Nerob si starosti\, o všetko
DTSTAMP:20260423T042559Z
END:VEVENT
END:VCALENDAR