BEGIN:VCALENDAR
VERSION:2.0
PRODID:www.codnes.sk
BEGIN:VEVENT
UID:69e8d705bbfe2
DTSTART:20221126T140000Z
SEQUENCE:0
TRANSP:OPAQUE
DTEND:20221126T180000Z
LOCATION:Piešťany
SUMMARY:Piešťany podľa Wintera
CLASS:PUBLIC
DESCRIPTION:Zažite s Winterom Piešťany tak\, ako ešte nikdy predtým! N
 asaďte si slúchadlá a pred vašimi očami oži
DTSTAMP:20260422T141117Z
END:VEVENT
END:VCALENDAR