BEGIN:VCALENDAR
VERSION:2.0
PRODID:www.codnes.sk
BEGIN:VEVENT
UID:69e73a3a680b2
DTSTART:20260312T170000Z
SEQUENCE:0
TRANSP:OPAQUE
LOCATION:Senica
SUMMARY:Pesničková šou FÍHA tralala pre najmenších divákov
CLASS:PUBLIC
DESCRIPTION:Pesničková šou FÍHA tralala pre najmenších divákov\n\n
 \nPozývame vás na osobné stretnutie s vašou obľúb
DTSTAMP:20260421T085002Z
END:VEVENT
END:VCALENDAR