BEGIN:VCALENDAR
VERSION:2.0
PRODID:www.codnes.sk
BEGIN:VEVENT
UID:69e8705a5f0cf
DTSTART:20240408T200000Z
SEQUENCE:0
TRANSP:OPAQUE
LOCATION:Trnava
SUMMARY:Pavol Hammel a hostia
CLASS:PUBLIC
DESCRIPTION:Pozývame vás zažiť fantastický deväťdesiatminútový kon
 cert speváckej a gitarovej legendy Pavla Hamme
DTSTAMP:20260422T065314Z
END:VEVENT
END:VCALENDAR