BEGIN:VCALENDAR
VERSION:2.0
PRODID:www.codnes.sk
BEGIN:VEVENT
UID:69ea18a8d78a8
DTSTART:20260425T100000Z
SEQUENCE:0
TRANSP:OPAQUE
LOCATION:Šamorín
SUMMARY:PACI PAC – Pesničková show pre deti
CLASS:PUBLIC
DESCRIPTION:PACI PAC – Pesničková show pre deti\nPripravte sa na vesel
 ú hudobno-zábavnú show\, ktorá rozospieva a
DTSTAMP:20260423T130336Z
END:VEVENT
END:VCALENDAR