BEGIN:VCALENDAR
VERSION:2.0
PRODID:www.codnes.sk
BEGIN:VEVENT
UID:69e5e0195396b
DTSTART:20260501T090000Z
SEQUENCE:0
TRANSP:OPAQUE
DTEND:20260501T130000Z
LOCATION:Hlohovec
SUMMARY:Otvorenie vodáckej sezóny 2026
CLASS:PUBLIC
DESCRIPTION:Ahoooj!!!Pridaj sa k nám na slávnostné otvorenie vodáckej s
 ezóny na rieke Váh zo Sokoloviec do Hloho
DTSTAMP:20260420T081313Z
END:VEVENT
END:VCALENDAR