BEGIN:VCALENDAR
VERSION:2.0
PRODID:www.codnes.sk
BEGIN:VEVENT
UID:69e9bac182780
DTSTART:20260508T220000Z
SEQUENCE:0
TRANSP:OPAQUE
DTEND:20260508T235900Z
LOCATION:Trnava
SUMMARY:ON AIR Party \"LOVE IS IN THE AIR\"
CLASS:PUBLIC
DESCRIPTION:Láska je vo vzduchu a my ju prinášame do Trnavy! Pokračujem
 e v sérii nezabudnuteľných ON AIR party.
DTSTAMP:20260423T062257Z
END:VEVENT
END:VCALENDAR