BEGIN:VCALENDAR
VERSION:2.0
PRODID:www.codnes.sk
BEGIN:VEVENT
UID:69e9bbe590829
DTSTART:20261024T160000Z
SEQUENCE:0
TRANSP:OPAQUE
DTEND:20261024T210000Z
LOCATION:Piešťany
SUMMARY:Nevinne o víne Piešťany
CLASS:PUBLIC
DESCRIPTION:Srdečne vás pozývame na najväčšiu putovnú ochutnávku v
 ín na Slovensku\, ktorá sa bude konať v sobotu
DTSTAMP:20260423T062749Z
END:VEVENT
END:VCALENDAR