BEGIN:VCALENDAR
VERSION:2.0
PRODID:www.codnes.sk
BEGIN:VEVENT
UID:69ed063bbca8d
DTSTART:20260426T190000Z
SEQUENCE:0
TRANSP:OPAQUE
DTEND:20260426T211500Z
LOCATION:Trnava
SUMMARY:Náš priateľ René | 26. 4. | Trnava
CLASS:PUBLIC
DESCRIPTION:Mozog naložený v liehu\, humor láskavo objímajúci hlúpos
 ť národa a divadelný skvost\, ktorý neohlodal
DTSTAMP:20260425T182147Z
END:VEVENT
END:VCALENDAR