BEGIN:VCALENDAR
VERSION:2.0
PRODID:www.codnes.sk
BEGIN:VEVENT
UID:69e4d57d03be4
DTSTART:20250625T190000Z
SEQUENCE:0
TRANSP:OPAQUE
DTEND:20270625T211500Z
LOCATION:Skalica
SUMMARY:Náš priateľ René | 25. 6. | Skalica
CLASS:PUBLIC
DESCRIPTION:Mozog naložený v liehu\, humor láskavo objímajúci hlúpos
 ť národa a divadelný skvost\, ktorý neohlodal
DTSTAMP:20260419T131541Z
END:VEVENT
END:VCALENDAR