BEGIN:VCALENDAR
VERSION:2.0
PRODID:www.codnes.sk
BEGIN:VEVENT
UID:69e5e0136b975
DTSTART:20260821T173000Z
SEQUENCE:0
TRANSP:OPAQUE
LOCATION:Trnava
SUMMARY:MIRO JAROŠ - AMFIK PÁRTY s Lipánkom
CLASS:PUBLIC
DESCRIPTION:Zažite jedinečnú rodinnú atmosféru pod holým nebom na amf
 iteátroch s pesničkami Mira Jaroša.Toto nie
DTSTAMP:20260420T081307Z
END:VEVENT
END:VCALENDAR