BEGIN:VCALENDAR
VERSION:2.0
PRODID:www.codnes.sk
BEGIN:VEVENT
UID:69e7485cb631a
DTSTART:20260321T165500Z
SEQUENCE:0
TRANSP:OPAQUE
LOCATION:Piešťany
SUMMARY:MET: SEZÓNA 2025/26 TRISTAN A IZOLDA (Richard Wagner)
CLASS:PUBLIC
DESCRIPTION:METROPOLITNÁ OPERA - SEZÓNA 2025/2026 \nTRISTAN A IZOLDA (R
 ichard Wagner)Dirigent: Yannick Nézet-Ségu
DTSTAMP:20260421T095020Z
END:VEVENT
END:VCALENDAR