BEGIN:VCALENDAR
VERSION:2.0
PRODID:www.codnes.sk
BEGIN:VEVENT
UID:69ed083467933
DTSTART:20260423T190000Z
SEQUENCE:0
TRANSP:OPAQUE
LOCATION:Piešťany
SUMMARY:MAMA UMRELA DVAKRÁT
CLASS:PUBLIC
DESCRIPTION:MAMA UMRELA DVAKRÁT je čierna komédia\, v ktorej sa rodinné
  dedičské stretnutie rýchlo zmení na prehl
DTSTAMP:20260425T183012Z
END:VEVENT
END:VCALENDAR