BEGIN:VCALENDAR
VERSION:2.0
PRODID:www.codnes.sk
BEGIN:VEVENT
UID:69ed873e262cc
DTSTART:20260518T190000Z
SEQUENCE:0
TRANSP:OPAQUE
DTEND:20260518T203000Z
LOCATION:Trnava
SUMMARY:Leško\, Šimečka\, Hudák\, Kostolný: Ako zachrániť demokraciu
CLASS:PUBLIC
DESCRIPTION:O aktuálnych politických a spoločenských udalostiach budú 
 v Trnave diskutovať politický analytik a k
DTSTAMP:20260426T033214Z
END:VEVENT
END:VCALENDAR