BEGIN:VCALENDAR
VERSION:2.0
PRODID:www.codnes.sk
BEGIN:VEVENT
UID:69e4d35d6819e
DTSTART:20260418T200000Z
SEQUENCE:0
TRANSP:OPAQUE
DTEND:20260418T235900Z
LOCATION:Holíč
SUMMARY:Ladies night - Strip Show
CLASS:PUBLIC
DESCRIPTION:Ladies night so skvelou diskotékou po celú noc a hlavne páns
 ký striptýz - polícia\, pilot\,…
DTSTAMP:20260419T130637Z
END:VEVENT
END:VCALENDAR