BEGIN:VCALENDAR
VERSION:2.0
PRODID:www.codnes.sk
BEGIN:VEVENT
UID:69e5824c4e8f5
DTSTART:20260425T220000Z
SEQUENCE:0
TRANSP:OPAQUE
DTEND:20260425T235900Z
LOCATION:Senica
SUMMARY:HARD RICO - FENIX / 25. 4.
CLASS:PUBLIC
DESCRIPTION:HARD RICO - FENIX - back on stage vol. 2 tour !25. 4. vo FENIXE
  zažiješ exkluzívnu rapovú noc s mome
DTSTAMP:20260420T013300Z
END:VEVENT
END:VCALENDAR