BEGIN:VCALENDAR
VERSION:2.0
PRODID:www.codnes.sk
BEGIN:VEVENT
UID:69e581d66d20b
DTSTART:20260421T190000Z
SEQUENCE:0
TRANSP:OPAQUE
LOCATION:Šamorín
SUMMARY:FRAGILE &amp\; Peter Lipa
CLASS:PUBLIC
DESCRIPTION:Koncert FRAGILE &amp\;amp\; LIPA je jednoducho oslavou ľudské
 ho hlasu a ukážkou toho\, čo všetko je mož
DTSTAMP:20260420T013102Z
END:VEVENT
END:VCALENDAR