BEGIN:VCALENDAR
VERSION:2.0
PRODID:www.codnes.sk
BEGIN:VEVENT
UID:69ea16332831b
DTSTART:20260424T190000Z
SEQUENCE:0
TRANSP:OPAQUE
LOCATION:Drahovce
SUMMARY:FRAGILE &amp\; Peter Lipa
CLASS:PUBLIC
DESCRIPTION:Koncert FRAGILE &amp\;amp\; LIPA je jednoducho oslavou ľudské
 ho hlasu a ukážkou toho\, čo všetko je mož
DTSTAMP:20260423T125307Z
END:VEVENT
END:VCALENDAR