BEGIN:VCALENDAR
VERSION:2.0
PRODID:www.codnes.sk
BEGIN:VEVENT
UID:69e7479b8ab04
DTSTART:20260320T190000Z
SEQUENCE:0
TRANSP:OPAQUE
LOCATION:Sereď
SUMMARY:FRAGILE &amp\; Peter Lipa
CLASS:PUBLIC
DESCRIPTION:Koncert FRAGILE &amp\;amp\; LIPA je jednoducho oslavou ľudské
 ho hlasu a ukážkou toho\, čo všetko je mož
DTSTAMP:20260421T094707Z
END:VEVENT
END:VCALENDAR