BEGIN:VCALENDAR
VERSION:2.0
PRODID:www.codnes.sk
BEGIN:VEVENT
UID:69ed652134b60
DTSTART:20230331T210000Z
SEQUENCE:0
TRANSP:OPAQUE
LOCATION:Trnava
SUMMARY:FRAGILE
CLASS:PUBLIC
DESCRIPTION:FRAGILE je slovenská vokálna skupina zložená z výrazných
  speváckych osobností\, ktoré bez použitia hu
DTSTAMP:20260426T010641Z
END:VEVENT
END:VCALENDAR