BEGIN:VCALENDAR
VERSION:2.0
PRODID:www.codnes.sk
BEGIN:VEVENT
UID:69e9bb5fc0de5
DTSTART:20260801T160000Z
SEQUENCE:0
TRANSP:OPAQUE
DTEND:99991231T005959Z
LOCATION:Trnava
SUMMARY:EKG NA NÁDVORÍ
CLASS:PUBLIC
DESCRIPTION:EKG NA NÁDVORÍIkona elektronickej hudby na Slovensku DJ EKG p
 richádza na Nádvorie!1. augusta zažijet
DTSTAMP:20260423T062535Z
END:VEVENT
END:VCALENDAR