BEGIN:VCALENDAR
VERSION:2.0
PRODID:www.codnes.sk
BEGIN:VEVENT
UID:69e4d2e86f095
DTSTART:20260414T190000Z
SEQUENCE:0
TRANSP:OPAQUE
LOCATION:Piešťany
SUMMARY:Duo koncert  - GEIŠBERGOVCI
CLASS:PUBLIC
DESCRIPTION:Hudobné vystúpenie bratov GEIŠBERGOVCOV je viac než len k
 oncert – je to zážitok.\nHudba plná farieb a
DTSTAMP:20260419T130440Z
END:VEVENT
END:VCALENDAR