BEGIN:VCALENDAR
VERSION:2.0
PRODID:www.codnes.sk
BEGIN:VEVENT
UID:69e9badacf272
DTSTART:20260606T130000Z
SEQUENCE:0
TRANSP:OPAQUE
DTEND:20260606T200000Z
LOCATION:Skalica
SUMMARY:Deň otvorených búd v prietržských vinohradoch 2026
CLASS:PUBLIC
DESCRIPTION:Radi by sme Vás srdečne pozvali na siedmy ročník podujatia:
 Deň otvorených búd v prietržských vinohra
DTSTAMP:20260423T062322Z
END:VEVENT
END:VCALENDAR