BEGIN:VCALENDAR
VERSION:2.0
PRODID:www.codnes.sk
BEGIN:VEVENT
UID:69e74e7cabd4e
DTSTART:20260320T190000Z
SEQUENCE:0
TRANSP:OPAQUE
LOCATION:Piešťany
SUMMARY:Bež ako o ženu!
CLASS:PUBLIC
DESCRIPTION:Divadlo Artynas uvádza od majstra komédii Raya Cooneyho(autor
  Poplach v hoteli Westminster) ďalšiu g
DTSTAMP:20260421T101628Z
END:VEVENT
END:VCALENDAR