BEGIN:VCALENDAR
VERSION:2.0
PRODID:www.codnes.sk
BEGIN:VEVENT
UID:69ebf6f4ae0a0
DTSTART:20220701T200000Z
SEQUENCE:0
TRANSP:OPAQUE
DTEND:20220701T235900Z
LOCATION:Hlohovec
SUMMARY:alltide - nemusím tour I havrilla - citadela
CLASS:PUBLIC
DESCRIPTION:koncom júna vyrážame na NEMUSÍM TOUR po celom Slovensku. je
 dnou zo zastávok je krásny vonkajší pries
DTSTAMP:20260424T230420Z
END:VEVENT
END:VCALENDAR